Package: rBLAST Version: 1.4.0 Command: /Library/Frameworks/R.framework/Resources/bin/R CMD build --keep-empty-dirs --no-resave-data rBLAST StartedAt: 2025-10-14 07:23:06 -0400 (Tue, 14 Oct 2025) EndedAt: 2025-10-14 07:23:26 -0400 (Tue, 14 Oct 2025) EllapsedTime: 19.9 seconds RetCode: 0 Status: OK PackageFile: rBLAST_1.4.0.tar.gz PackageFileSize: 24.74 KiB