Package: rBLAST Version: 1.4.0 Command: rm -rf rBLAST.buildbin-libdir && mkdir rBLAST.buildbin-libdir && /Users/biocbuild/BBS/utils/build-universal.sh rBLAST_1.4.0.tar.gz /Library/Frameworks/R.framework/Resources/bin/R rBLAST.buildbin-libdir StartedAt: 2025-10-15 19:58:42 -0400 (Wed, 15 Oct 2025) EndedAt: 2025-10-15 19:58:55 -0400 (Wed, 15 Oct 2025) EllapsedTime: 12.3 seconds RetCode: 0 Status: OK PackageFile: rBLAST_1.4.0.tgz PackageFileSize: 49.27 KiB