Package: qvalue Version: 2.40.0 Command: /home/biocbuild/bbs-3.21-bioc/R/bin/R CMD check --install=check:qvalue.install-out.txt --library=/home/biocbuild/bbs-3.21-bioc/R/site-library --timings qvalue_2.40.0.tar.gz StartedAt: 2025-10-16 02:34:38 -0400 (Thu, 16 Oct 2025) EndedAt: 2025-10-16 02:35:31 -0400 (Thu, 16 Oct 2025) EllapsedTime: 53.0 seconds RetCode: 0 Status: OK CheckDir: qvalue.Rcheck Warnings: 0