Package: qusage Version: 2.42.0 Command: /home/biocbuild/bbs-3.21-bioc/R/bin/R CMD INSTALL qusage StartedAt: 2025-09-28 15:26:46 -0400 (Sun, 28 Sep 2025) EndedAt: 2025-09-28 15:26:55 -0400 (Sun, 28 Sep 2025) EllapsedTime: 8.7 seconds RetCode: 0 Status: OK