Package: quantsmooth Version: 1.74.0 Command: E:\biocbuild\bbs-3.21-bioc\R\bin\R.exe CMD INSTALL quantsmooth StartedAt: 2025-08-14 15:23:53 -0400 (Thu, 14 Aug 2025) EndedAt: 2025-08-14 15:24:19 -0400 (Thu, 14 Aug 2025) EllapsedTime: 26.2 seconds RetCode: 0 Status: OK