Package: quantsmooth Version: 1.74.0 Command: chmod a+r quantsmooth -R && E:\biocbuild\bbs-3.21-bioc\R\bin\R.exe CMD build --keep-empty-dirs --no-resave-data quantsmooth StartedAt: 2025-08-14 21:31:01 -0400 (Thu, 14 Aug 2025) EndedAt: 2025-08-14 21:31:19 -0400 (Thu, 14 Aug 2025) EllapsedTime: 18.0 seconds RetCode: 0 Status: OK PackageFile: quantsmooth_1.74.0.tar.gz PackageFileSize: 230.2 KiB