Package: quantsmooth Version: 1.74.0 Command: rm -rf quantsmooth.buildbin-libdir && mkdir quantsmooth.buildbin-libdir && E:\biocbuild\bbs-3.21-bioc\R\bin\R.exe CMD INSTALL --build --library=quantsmooth.buildbin-libdir quantsmooth_1.74.0.tar.gz StartedAt: 2025-08-15 10:01:18 -0400 (Fri, 15 Aug 2025) EndedAt: 2025-08-15 10:01:37 -0400 (Fri, 15 Aug 2025) EllapsedTime: 18.8 seconds RetCode: 0 Status: OK PackageFile: quantsmooth_1.74.0.zip PackageFileSize: 315.3 KiB