Package: quantsmooth Version: 1.74.0 Command: /Library/Frameworks/R.framework/Resources/bin/R CMD INSTALL quantsmooth StartedAt: 2025-10-13 15:10:11 -0400 (Mon, 13 Oct 2025) EndedAt: 2025-10-13 15:10:44 -0400 (Mon, 13 Oct 2025) EllapsedTime: 33.0 seconds RetCode: 0 Status: OK