Package: quantsmooth Version: 1.74.0 Command: rm -rf quantsmooth.buildbin-libdir && mkdir quantsmooth.buildbin-libdir && /Users/biocbuild/BBS/utils/build-universal.sh quantsmooth_1.74.0.tar.gz /Library/Frameworks/R.framework/Resources/bin/R quantsmooth.buildbin-libdir StartedAt: 2025-10-14 14:27:48 -0400 (Tue, 14 Oct 2025) EndedAt: 2025-10-14 14:28:06 -0400 (Tue, 14 Oct 2025) EllapsedTime: 18.0 seconds RetCode: 0 Status: OK PackageFile: quantsmooth_1.74.0.tgz PackageFileSize: 420.1 KiB