Package: quantsmooth Version: 1.74.0 Command: /home/biocbuild/R/R/bin/R CMD check --install=check:quantsmooth.install-out.txt --library=/home/biocbuild/R/R/site-library --no-vignettes --timings quantsmooth_1.74.0.tar.gz StartedAt: 2025-10-14 12:57:00 -0000 (Tue, 14 Oct 2025) EndedAt: 2025-10-14 12:57:57 -0000 (Tue, 14 Oct 2025) EllapsedTime: 57.0 seconds RetCode: 0 Status: OK CheckDir: quantsmooth.Rcheck Warnings: 0