Package: quantsmooth Version: 1.74.0 Command: /home/biocbuild/R/R/bin/R CMD build --keep-empty-dirs --no-resave-data quantsmooth StartedAt: 2025-10-14 03:46:53 -0000 (Tue, 14 Oct 2025) EndedAt: 2025-10-14 03:47:10 -0000 (Tue, 14 Oct 2025) EllapsedTime: 17.0 seconds RetCode: 0 Status: OK PackageFile: quantsmooth_1.74.0.tar.gz PackageFileSize: 336 KiB