Package: quantsmooth Version: 1.74.0 Command: /Library/Frameworks/R.framework/Resources/bin/R CMD check --install=check:quantsmooth.install-out.txt --library=/Library/Frameworks/R.framework/Resources/library --no-vignettes --timings quantsmooth_1.74.0.tar.gz StartedAt: 2025-10-15 08:43:36 -0400 (Wed, 15 Oct 2025) EndedAt: 2025-10-15 08:44:34 -0400 (Wed, 15 Oct 2025) EllapsedTime: 57.6 seconds RetCode: 0 Status: OK CheckDir: quantsmooth.Rcheck Warnings: 0