Package: quantro Version: 1.42.0 Command: chmod a+r quantro -R && E:\biocbuild\bbs-3.21-bioc\R\bin\R.exe CMD build --keep-empty-dirs --no-resave-data quantro StartedAt: 2025-08-14 21:30:50 -0400 (Thu, 14 Aug 2025) EndedAt: 2025-08-14 21:33:07 -0400 (Thu, 14 Aug 2025) EllapsedTime: 136.4 seconds RetCode: 0 Status: OK PackageFile: quantro_1.42.0.tar.gz PackageFileSize: 2.511 MiB