Package: quantro Version: 1.42.0 Command: /Library/Frameworks/R.framework/Resources/bin/R CMD check --install=check:quantro.install-out.txt --library=/Library/Frameworks/R.framework/Resources/library --no-vignettes --timings quantro_1.42.0.tar.gz StartedAt: 2025-10-14 08:42:56 -0400 (Tue, 14 Oct 2025) EndedAt: 2025-10-14 08:54:32 -0400 (Tue, 14 Oct 2025) EllapsedTime: 695.3 seconds RetCode: 0 Status: OK CheckDir: quantro.Rcheck Warnings: 0