Package: quantro Version: 1.42.0 Command: rm -rf quantro.buildbin-libdir && mkdir quantro.buildbin-libdir && /Users/biocbuild/BBS/utils/build-universal.sh quantro_1.42.0.tar.gz /Library/Frameworks/R.framework/Resources/bin/R quantro.buildbin-libdir StartedAt: 2025-10-14 14:27:47 -0400 (Tue, 14 Oct 2025) EndedAt: 2025-10-14 14:29:55 -0400 (Tue, 14 Oct 2025) EllapsedTime: 128.1 seconds RetCode: 0 Status: OK PackageFile: quantro_1.42.0.tgz PackageFileSize: 3.134 MiB