Package: quantro Version: 1.42.0 Command: /Library/Frameworks/R.framework/Resources/bin/R CMD check --install=check:quantro.install-out.txt --library=/Library/Frameworks/R.framework/Resources/library --no-vignettes --timings quantro_1.42.0.tar.gz StartedAt: 2025-04-21 22:50:40 -0400 (Mon, 21 Apr 2025) EndedAt: 2025-04-21 22:56:53 -0400 (Mon, 21 Apr 2025) EllapsedTime: 373.0 seconds RetCode: 0 Status: OK CheckDir: quantro.Rcheck Warnings: 0