Package: quantiseqr Version: 1.16.0 Command: /Library/Frameworks/R.framework/Resources/bin/R CMD check --install=check:quantiseqr.install-out.txt --library=/Library/Frameworks/R.framework/Resources/library --no-vignettes --timings quantiseqr_1.16.0.tar.gz StartedAt: 2025-09-30 08:31:06 -0400 (Tue, 30 Sep 2025) EndedAt: 2025-09-30 08:39:37 -0400 (Tue, 30 Sep 2025) EllapsedTime: 511.0 seconds RetCode: 0 Status: OK CheckDir: quantiseqr.Rcheck Warnings: 0