Package: qsmooth Version: 1.24.0 Command: E:\biocbuild\bbs-3.21-bioc\R\bin\R.exe CMD INSTALL qsmooth StartedAt: 2025-08-14 16:20:03 -0400 (Thu, 14 Aug 2025) EndedAt: 2025-08-14 16:20:50 -0400 (Thu, 14 Aug 2025) EllapsedTime: 46.5 seconds RetCode: 0 Status: OK