Package: qsmooth Version: 1.24.0 Command: chmod a+r qsmooth -R && E:\biocbuild\bbs-3.21-bioc\R\bin\R.exe CMD build --keep-empty-dirs --no-resave-data qsmooth StartedAt: 2025-08-14 21:30:04 -0400 (Thu, 14 Aug 2025) EndedAt: 2025-08-14 21:31:43 -0400 (Thu, 14 Aug 2025) EllapsedTime: 99.3 seconds RetCode: 0 Status: OK PackageFile: qsmooth_1.24.0.tar.gz PackageFileSize: 769.9 KiB