Package: qsmooth Version: 1.24.0 Command: rm -rf qsmooth.buildbin-libdir && mkdir qsmooth.buildbin-libdir && /Users/biocbuild/BBS/utils/build-universal.sh qsmooth_1.24.0.tar.gz /Library/Frameworks/R.framework/Resources/bin/R qsmooth.buildbin-libdir StartedAt: 2025-10-14 14:27:20 -0400 (Tue, 14 Oct 2025) EndedAt: 2025-10-14 14:28:50 -0400 (Tue, 14 Oct 2025) EllapsedTime: 90.1 seconds RetCode: 0 Status: OK PackageFile: qsmooth_1.24.0.tgz PackageFileSize: 1.471 MiB