Package: qsea Version: 1.34.0 Command: rm -rf qsea.buildbin-libdir && mkdir qsea.buildbin-libdir && E:\biocbuild\bbs-3.21-bioc\R\bin\R.exe CMD INSTALL --build --library=qsea.buildbin-libdir qsea_1.34.0.tar.gz StartedAt: 2025-08-15 10:00:53 -0400 (Fri, 15 Aug 2025) EndedAt: 2025-08-15 10:02:01 -0400 (Fri, 15 Aug 2025) EllapsedTime: 68.3 seconds RetCode: 0 Status: OK PackageFile: qsea_1.34.0.zip PackageFileSize: 920.4 KiB