Package: qsea Version: 1.34.0 Command: /home/biocbuild/bbs-3.21-bioc/R/bin/R CMD INSTALL qsea StartedAt: 2025-10-15 15:27:13 -0400 (Wed, 15 Oct 2025) EndedAt: 2025-10-15 15:27:45 -0400 (Wed, 15 Oct 2025) EllapsedTime: 32.4 seconds RetCode: 0 Status: OK