Package: qsea Version: 1.34.0 Command: /Library/Frameworks/R.framework/Resources/bin/R CMD build --keep-empty-dirs --no-resave-data qsea StartedAt: 2025-10-13 21:46:31 -0400 (Mon, 13 Oct 2025) EndedAt: 2025-10-13 21:46:34 -0400 (Mon, 13 Oct 2025) EllapsedTime: 2.2 seconds RetCode: 1 Status: ERROR PackageFile: None PackageFileSize: NA