Package: qsea Version: 1.34.0 Command: /home/biocbuild/R/R/bin/R CMD build --keep-empty-dirs --no-resave-data qsea StartedAt: 2025-10-14 03:45:37 -0000 (Tue, 14 Oct 2025) EndedAt: 2025-10-14 03:46:53 -0000 (Tue, 14 Oct 2025) EllapsedTime: 76.0 seconds RetCode: 0 Status: OK PackageFile: qsea_1.34.0.tar.gz PackageFileSize: 821.9 KiB