Package: qsea Version: 1.34.0 Command: /Library/Frameworks/R.framework/Resources/bin/R CMD INSTALL qsea StartedAt: 2025-10-13 16:42:09 -0400 (Mon, 13 Oct 2025) EndedAt: 2025-10-13 16:42:10 -0400 (Mon, 13 Oct 2025) EllapsedTime: 1.2 seconds RetCode: 1 Status: ERROR