Package: qpcrNorm Version: 1.66.0 Command: chmod a+r qpcrNorm -R && E:\biocbuild\bbs-3.21-bioc\R\bin\R.exe CMD build --keep-empty-dirs --no-resave-data qpcrNorm StartedAt: 2025-08-14 21:29:23 -0400 (Thu, 14 Aug 2025) EndedAt: 2025-08-14 21:29:40 -0400 (Thu, 14 Aug 2025) EllapsedTime: 17.0 seconds RetCode: 0 Status: OK PackageFile: qpcrNorm_1.66.0.tar.gz PackageFileSize: 477.3 KiB