Package: qmtools Version: 1.12.0 Command: /home/biocbuild/bbs-3.21-bioc/R/bin/R CMD build --keep-empty-dirs --no-resave-data qmtools StartedAt: 2025-10-15 19:17:28 -0400 (Wed, 15 Oct 2025) EndedAt: 2025-10-15 19:18:17 -0400 (Wed, 15 Oct 2025) EllapsedTime: 49.1 seconds RetCode: 0 Status: OK PackageFile: qmtools_1.12.0.tar.gz PackageFileSize: 1.437 MiB