Package: qmtools Version: 1.12.0 Command: /Library/Frameworks/R.framework/Resources/bin/R CMD INSTALL qmtools StartedAt: 2025-10-13 15:34:00 -0400 (Mon, 13 Oct 2025) EndedAt: 2025-10-13 15:34:56 -0400 (Mon, 13 Oct 2025) EllapsedTime: 55.6 seconds RetCode: 0 Status: OK