Package: qmtools Version: 1.12.0 Command: /Library/Frameworks/R.framework/Resources/bin/R CMD build --keep-empty-dirs --no-resave-data qmtools StartedAt: 2025-10-13 21:45:41 -0400 (Mon, 13 Oct 2025) EndedAt: 2025-10-13 21:47:30 -0400 (Mon, 13 Oct 2025) EllapsedTime: 109.7 seconds RetCode: 0 Status: OK PackageFile: qmtools_1.12.0.tar.gz PackageFileSize: 1.415 MiB