Package: qmtools Version: 1.12.0 Command: /home/biocbuild/R/R/bin/R CMD INSTALL qmtools StartedAt: 2025-10-13 20:31:26 -0000 (Mon, 13 Oct 2025) EndedAt: 2025-10-13 20:32:04 -0000 (Mon, 13 Oct 2025) EllapsedTime: 37.4 seconds RetCode: 0 Status: OK