Package: qmtools Version: 1.12.0 Command: /home/biocbuild/R/R/bin/R CMD build --keep-empty-dirs --no-resave-data qmtools StartedAt: 2025-10-14 03:45:16 -0000 (Tue, 14 Oct 2025) EndedAt: 2025-10-14 03:46:30 -0000 (Tue, 14 Oct 2025) EllapsedTime: 74.0 seconds RetCode: 0 Status: OK PackageFile: qmtools_1.12.0.tar.gz PackageFileSize: 1.397 MiB