Package: qmtools Version: 1.12.0 Command: /Library/Frameworks/R.framework/Resources/bin/R CMD build --keep-empty-dirs --no-resave-data qmtools StartedAt: 2025-10-14 07:05:08 -0400 (Tue, 14 Oct 2025) EndedAt: 2025-10-14 07:06:10 -0400 (Tue, 14 Oct 2025) EllapsedTime: 62.5 seconds RetCode: 0 Status: OK PackageFile: qmtools_1.12.0.tar.gz PackageFileSize: 1.415 MiB