Package: qckitfastq Version: 1.24.0 Command: E:\biocbuild\bbs-3.21-bioc\R\bin\R.exe CMD INSTALL qckitfastq StartedAt: 2025-08-14 15:35:34 -0400 (Thu, 14 Aug 2025) EndedAt: 2025-08-14 15:36:04 -0400 (Thu, 14 Aug 2025) EllapsedTime: 30.3 seconds RetCode: 0 Status: OK