Package: qckitfastq Version: 1.24.0 Command: chmod a+r qckitfastq -R && E:\biocbuild\bbs-3.21-bioc\R\bin\R.exe CMD build --keep-empty-dirs --no-resave-data qckitfastq StartedAt: 2025-08-14 21:28:38 -0400 (Thu, 14 Aug 2025) EndedAt: 2025-08-14 21:29:55 -0400 (Thu, 14 Aug 2025) EllapsedTime: 76.9 seconds RetCode: 1 Status: ERROR PackageFile: None PackageFileSize: NA