Package: qPLEXanalyzer Version: 1.26.0 Command: E:\biocbuild\bbs-3.21-bioc\R\bin\R.exe CMD check --no-multiarch --install=check:qPLEXanalyzer.install-out.txt --library=E:\biocbuild\bbs-3.21-bioc\R\library --no-vignettes --timings qPLEXanalyzer_1.26.0.tar.gz StartedAt: 2025-08-15 05:43:53 -0400 (Fri, 15 Aug 2025) EndedAt: 2025-08-15 05:49:41 -0400 (Fri, 15 Aug 2025) EllapsedTime: 348.1 seconds RetCode: 0 Status: OK CheckDir: qPLEXanalyzer.Rcheck Warnings: 0