Package: qPLEXanalyzer Version: 1.26.0 Command: rm -rf qPLEXanalyzer.buildbin-libdir && mkdir qPLEXanalyzer.buildbin-libdir && E:\biocbuild\bbs-3.21-bioc\R\bin\R.exe CMD INSTALL --build --library=qPLEXanalyzer.buildbin-libdir qPLEXanalyzer_1.26.0.tar.gz StartedAt: 2025-08-15 10:00:44 -0400 (Fri, 15 Aug 2025) EndedAt: 2025-08-15 10:02:22 -0400 (Fri, 15 Aug 2025) EllapsedTime: 98.6 seconds RetCode: 0 Status: OK PackageFile: qPLEXanalyzer_1.26.0.zip PackageFileSize: 3.153 MiB