Package: pwalign Version: 1.4.0 Command: /home/biocbuild/bbs-3.21-bioc/R/bin/R CMD check --install=check:pwalign.install-out.txt --library=/home/biocbuild/bbs-3.21-bioc/R/site-library --timings pwalign_1.4.0.tar.gz StartedAt: 2025-10-16 02:29:17 -0400 (Thu, 16 Oct 2025) EndedAt: 2025-10-16 02:31:35 -0400 (Thu, 16 Oct 2025) EllapsedTime: 138.2 seconds RetCode: 0 Status: OK CheckDir: pwalign.Rcheck Warnings: 0