Package: pvca Version: 1.48.0 Command: /home/biocbuild/bbs-3.21-bioc/R/bin/R CMD INSTALL pvca StartedAt: 2025-10-15 15:12:15 -0400 (Wed, 15 Oct 2025) EndedAt: 2025-10-15 15:12:26 -0400 (Wed, 15 Oct 2025) EllapsedTime: 10.8 seconds RetCode: 0 Status: OK