Package: pvca Version: 1.48.0 Command: /Library/Frameworks/R.framework/Resources/bin/R CMD check --install=check:pvca.install-out.txt --library=/Library/Frameworks/R.framework/Resources/library --no-vignettes --timings pvca_1.48.0.tar.gz StartedAt: 2025-10-15 08:28:32 -0400 (Wed, 15 Oct 2025) EndedAt: 2025-10-15 08:29:58 -0400 (Wed, 15 Oct 2025) EllapsedTime: 86.5 seconds RetCode: 0 Status: OK CheckDir: pvca.Rcheck Warnings: 0