Package: pvca Version: 1.48.0 Command: /Library/Frameworks/R.framework/Resources/bin/R CMD build --keep-empty-dirs --no-resave-data pvca StartedAt: 2025-10-14 07:02:08 -0400 (Tue, 14 Oct 2025) EndedAt: 2025-10-14 07:02:37 -0400 (Tue, 14 Oct 2025) EllapsedTime: 29.5 seconds RetCode: 0 Status: OK PackageFile: pvca_1.48.0.tar.gz PackageFileSize: 218 KiB