Package: pvac Version: 1.56.0 Command: /home/biocbuild/bbs-3.21-bioc/R/bin/R CMD build --keep-empty-dirs --no-resave-data pvac StartedAt: 2025-10-15 19:16:11 -0400 (Wed, 15 Oct 2025) EndedAt: 2025-10-15 19:16:55 -0400 (Wed, 15 Oct 2025) EllapsedTime: 43.0 seconds RetCode: 0 Status: OK PackageFile: pvac_1.56.0.tar.gz PackageFileSize: 259.2 KiB