Package: pvac Version: 1.56.0 Command: /Library/Frameworks/R.framework/Resources/bin/R CMD INSTALL pvac StartedAt: 2025-10-13 15:22:58 -0400 (Mon, 13 Oct 2025) EndedAt: 2025-10-13 15:23:07 -0400 (Mon, 13 Oct 2025) EllapsedTime: 9.7 seconds RetCode: 0 Status: OK