Package: pvac Version: 1.56.0 Command: /Library/Frameworks/R.framework/Resources/bin/R CMD build --keep-empty-dirs --no-resave-data pvac StartedAt: 2025-10-13 21:43:42 -0400 (Mon, 13 Oct 2025) EndedAt: 2025-10-13 21:45:11 -0400 (Mon, 13 Oct 2025) EllapsedTime: 89.0 seconds RetCode: 0 Status: OK PackageFile: pvac_1.56.0.tar.gz PackageFileSize: 258.1 KiB