Package: pvac Version: 1.56.0 Command: rm -rf pvac.buildbin-libdir && mkdir pvac.buildbin-libdir && /Users/biocbuild/BBS/utils/build-universal.sh pvac_1.56.0.tar.gz /Library/Frameworks/R.framework/Resources/bin/R pvac.buildbin-libdir StartedAt: 2025-10-14 14:26:30 -0400 (Tue, 14 Oct 2025) EndedAt: 2025-10-14 14:26:39 -0400 (Tue, 14 Oct 2025) EllapsedTime: 9.4 seconds RetCode: 0 Status: OK PackageFile: pvac_1.56.0.tgz PackageFileSize: 253.6 KiB