Package: pvac Version: 1.56.0 Command: /Library/Frameworks/R.framework/Resources/bin/R CMD build --keep-empty-dirs --no-resave-data pvac StartedAt: 2025-04-21 18:01:57 -0400 (Mon, 21 Apr 2025) EndedAt: 2025-04-21 18:02:42 -0400 (Mon, 21 Apr 2025) EllapsedTime: 45.8 seconds RetCode: 0 Status: OK PackageFile: pvac_1.56.0.tar.gz PackageFileSize: 257.3 KiB