Package: pvac Version: 1.56.0 Command: rm -rf pvac.buildbin-libdir && mkdir pvac.buildbin-libdir && /Users/biocbuild/BBS/utils/build-universal.sh pvac_1.56.0.tar.gz /Library/Frameworks/R.framework/Resources/bin/R pvac.buildbin-libdir StartedAt: 2025-04-22 01:01:44 -0400 (Tue, 22 Apr 2025) EndedAt: 2025-04-22 01:01:51 -0400 (Tue, 22 Apr 2025) EllapsedTime: 7.0 seconds RetCode: 0 Status: OK PackageFile: pvac_1.56.0.tgz PackageFileSize: 252.8 KiB