Package: pvac Version: 1.56.0 Command: /home/biocbuild/R/R/bin/R CMD INSTALL pvac StartedAt: 2025-10-13 20:24:26 -0000 (Mon, 13 Oct 2025) EndedAt: 2025-10-13 20:24:32 -0000 (Mon, 13 Oct 2025) EllapsedTime: 5.9 seconds RetCode: 0 Status: OK