Package: pvac Version: 1.56.0 Command: /home/biocbuild/R/R/bin/R CMD check --install=check:pvac.install-out.txt --library=/home/biocbuild/R/R/site-library --no-vignettes --timings pvac_1.56.0.tar.gz StartedAt: 2025-10-14 12:51:08 -0000 (Tue, 14 Oct 2025) EndedAt: 2025-10-14 12:52:16 -0000 (Tue, 14 Oct 2025) EllapsedTime: 68.1 seconds RetCode: 0 Status: OK CheckDir: pvac.Rcheck Warnings: 0