Package: pvac Version: 1.56.0 Command: /home/biocbuild/R/R/bin/R CMD build --keep-empty-dirs --no-resave-data pvac StartedAt: 2025-10-14 03:43:46 -0000 (Tue, 14 Oct 2025) EndedAt: 2025-10-14 03:44:46 -0000 (Tue, 14 Oct 2025) EllapsedTime: 60.0 seconds RetCode: 0 Status: OK PackageFile: pvac_1.56.0.tar.gz PackageFileSize: 252.8 KiB