Package: puma Version: 3.50.0 Command: chmod a+r puma -R && E:\biocbuild\bbs-3.21-bioc\R\bin\R.exe CMD build --keep-empty-dirs --no-resave-data puma StartedAt: 2025-08-14 21:27:54 -0400 (Thu, 14 Aug 2025) EndedAt: 2025-08-14 21:30:23 -0400 (Thu, 14 Aug 2025) EllapsedTime: 149.0 seconds RetCode: 0 Status: OK PackageFile: puma_3.50.0.tar.gz PackageFileSize: 3.25 MiB